Workbook

Sheet Curve
A1: نمودار پیشرفت تجمعی برنامه و واقعی
A2: مثال آموزشی ۸ بسته منتخب | تاریخ وضعیت 2026-11-08 | این نمودار، پیشرفت کل ساختمان نیست.
A5: پایان هفته | B5: برنامه تجمعی | C5: واقعی تجمعی | D5: افزایش هفته | E5: اختلاف واحد درصد | F5: تاریخ نمودار
A6: 46306 | B6: =IF(AND(COUNT(Plan!D6:D13)=8,SUM(Plan!$C$6:$C$13)>0),SUMPRODUCT(Plan!$C$6:$C$13,Plan!D6:D13)/SUM(Plan!$C$6:$C$13),NA()) -> 0.05 | C6: =IF(AND(COUNT(Actual!D6:D13)=8,SUM(Plan!$C$6:$C$13)>0),SUMPRODUCT(Plan!$C$6:$C$13,Actual!D6:D13)/SUM(Plan!$C$6:$C$13),NA()) -> 0.05 | D6: =C6 -> 0.05 | E6: =(C6-B6)*100 -> 0 | F6: 10-11
A7: 46313 | B7: =IF(AND(COUNT(Plan!E6:E13)=8,SUM(Plan!$C$6:$C$13)>0),SUMPRODUCT(Plan!$C$6:$C$13,Plan!E6:E13)/SUM(Plan!$C$6:$C$13),NA()) -> 0.13 | C7: =IF(AND(COUNT(Actual!E6:E13)=8,SUM(Plan!$C$6:$C$13)>0),SUMPRODUCT(Plan!$C$6:$C$13,Actual!E6:E13)/SUM(Plan!$C$6:$C$13),NA()) -> 0.12 | D7: =C7-C6 -> 0.07 | E7: =(C7-B7)*100 -> -1 | F7: 10-18
A8: 46320 | B8: =IF(AND(COUNT(Plan!F6:F13)=8,SUM(Plan!$C$6:$C$13)>0),SUMPRODUCT(Plan!$C$6:$C$13,Plan!F6:F13)/SUM(Plan!$C$6:$C$13),NA()) -> 0.25 | C8: =IF(AND(COUNT(Actual!F6:F13)=8,SUM(Plan!$C$6:$C$13)>0),SUMPRODUCT(Plan!$C$6:$C$13,Actual!F6:F13)/SUM(Plan!$C$6:$C$13),NA()) -> 0.22 | D8: =C8-C7 -> 0.1 | E8: =(C8-B8)*100 -> -3 | F8: 10-25
A9: 46327 | B9: =IF(AND(COUNT(Plan!G6:G13)=8,SUM(Plan!$C$6:$C$13)>0),SUMPRODUCT(Plan!$C$6:$C$13,Plan!G6:G13)/SUM(Plan!$C$6:$C$13),NA()) -> 0.42 | C9: =IF(AND(COUNT(Actual!G6:G13)=8,SUM(Plan!$C$6:$C$13)>0),SUMPRODUCT(Plan!$C$6:$C$13,Actual!G6:G13)/SUM(Plan!$C$6:$C$13),NA()) -> 0.41 | D9: =C9-C8 -> 0.19 | E9: =(C9-B9)*100 -> -1 | F9: 11-01
A10: 46334 | B10: =IF(AND(COUNT(Plan!H6:H13)=8,SUM(Plan!$C$6:$C$13)>0),SUMPRODUCT(Plan!$C$6:$C$13,Plan!H6:H13)/SUM(Plan!$C$6:$C$13),NA()) -> 0.5275 | C10: =IF(AND(COUNT(Actual!H6:H13)=8,SUM(Plan!$C$6:$C$13)>0),SUMPRODUCT(Plan!$C$6:$C$13,Actual!H6:H13)/SUM(Plan!$C$6:$C$13),NA()) -> 0.52 | D10: =C10-C9 -> 0.11 | E10: =(C10-B10)*100 -> -0.75 | F10: 11-08
A11: 46341 | B11: =IF(AND(COUNT(Plan!I6:I13)=8,SUM(Plan!$C$6:$C$13)>0),SUMPRODUCT(Plan!$C$6:$C$13,Plan!I6:I13)/SUM(Plan!$C$6:$C$13),NA()) -> 0.73 | F11: 11-15
A12: 46348 | B12: =IF(AND(COUNT(Plan!J6:J13)=8,SUM(Plan!$C$6:$C$13)>0),SUMPRODUCT(Plan!$C$6:$C$13,Plan!J6:J13)/SUM(Plan!$C$6:$C$13),NA()) -> 0.89 | F12: 11-22
A13: 46355 | B13: =IF(AND(COUNT(Plan!K6:K13)=8,SUM(Plan!$C$6:$C$13)>0),SUMPRODUCT(Plan!$C$6:$C$13,Plan!K6:K13)/SUM(Plan!$C$6:$C$13),NA()) -> 1 | F13: 11-29
A15: در پایان هفته پنجم: برنامه ۵۲٫۷۵٪، واقعی ۵۲٪، فاصله ۰٫۷۵ واحد درصد. افزایش همان هفته ۱۱ واحد درصد است.
A20: به‌روزرسانی: ابتدا درصد تجمعی همه ۸ بسته را در ستون هفته جدید Actual ثبت کنید؛ سپس فرمول‌های C تا E هفته قبل را یک ردیف پایین کپی کنید. آینده را با صفر پر نکنید.
A23: #N/A یعنی داده یک هفته ناقص است یا جمع وزن‌ها معتبر نیست؛ ورودی را اصلاح کنید. دوره‌ها هفتگی و منظم‌اند؛ برای تاریخ‌های نامنظم از نمودار XY استفاده کنید.
A26: مرجع فرمول: https://support.microsoft.com/en-us/excel/functions/sumproduct-function | تاریخ‌ها میلادی‌اند.

Sheet Plan
A1: ورودی پیشرفت تجمعی برنامه
A2: مثال فرضی آموزشی MS-DEMO-01؛ فقط ۸ بسته منتخب. وزن‌ها و دامنه در همه هفته‌ها یکسان‌اند. اعداد آبی ورودی‌اند.
A5: کد WBS | B5: بسته منتخب | C5: وزن | D5: 46306 | E5: 46313 | F5: 46320 | G5: 46327 | H5: 46334 | I5: 46341 | J5: 46348 | K5: 46355
A6: 1.1.1 | B6: حصار موقت و مسیر دسترسی | C6: 0.05 | D6: 1 | E6: 1 | F6: 1 | G6: 1 | H6: 1 | I6: 1 | J6: 1 | K6: 1
A7: 1.2.3 | B7: فونداسیون بتنی | C7: 0.2 | D7: 0 | E7: 0.4 | F7: 0.8 | G7: 1 | H7: 1 | I7: 1 | J7: 1 | K7: 1
A8: 1.3.1 | B8: بتن اسکلت طبقه ۱ | C8: 0.2 | D8: 0 | E8: 0 | F8: 0.2 | G8: 0.8 | H8: 1 | I8: 1 | J8: 1 | K8: 1
A9: 1.3.2 | B9: بتن اسکلت طبقه ۲ | C9: 0.2 | D9: 0 | E9: 0 | F9: 0 | G9: 0.05 | H9: 0.2 | I9: 0.8 | J9: 1 | K9: 1
A10: 1.4.1 | B10: دیوارچینی طبقه ۱ | C10: 0.1 | D10: 0 | E10: 0 | F10: 0 | G10: 0 | H10: 0.375 | I10: 0.8 | J10: 1 | K10: 1
A11: 1.5.1 | B11: لوله‌کشی آب و فاضلاب | C11: 0.1 | D11: 0 | E11: 0 | F11: 0 | G11: 0 | H11: 0 | I11: 0.4 | J11: 0.8 | K11: 1
A12: 1.6.2 | B12: نازک‌کاری نهایی طبقه ۱ | C12: 0.1 | D12: 0 | E12: 0 | F12: 0 | G12: 0 | H12: 0 | I12: 0 | J12: 0.6 | K12: 1
A13: 1.8.3 | B13: مدارک چون‌ساخت و بهره‌برداری | C13: 0.05 | D13: 0 | E13: 0 | F13: 0 | G13: 0 | H13: 0 | I13: 0 | J13: 0 | K13: 1
A15: هفته‌های دیگر، تکمیل فرضی این مثال‌اند؛ رسیدن این ۸ بسته به ۱۰۰٪ به معنی پایان کل ساختمان نیست.
A18: مبنای هفته چهارم و پنجم: نمونه منتشرشده پیشرفت فیزیکی مدیرساخت. سایر هفته‌ها فرضی‌اند. وزن را فقط در Plan اصلاح کنید؛ وزن Actual برای نمایش است و خروجی از وزن‌های Plan استفاده می‌کند.

Sheet Actual
A1: ورودی پیشرفت تجمعی واقعی
A2: مثال فرضی آموزشی MS-DEMO-01؛ فقط ۸ بسته منتخب. وزن‌ها و دامنه در همه هفته‌ها یکسان‌اند. اعداد آبی ورودی‌اند.
A5: کد WBS | B5: بسته منتخب | C5: وزن | D5: 46306 | E5: 46313 | F5: 46320 | G5: 46327 | H5: 46334 | I5: 46341 | J5: 46348 | K5: 46355
A6: 1.1.1 | B6: حصار موقت و مسیر دسترسی | C6: =Plan!C6 -> 0.05 | D6: 1 | E6: 1 | F6: 1 | G6: 1 | H6: 1
A7: 1.2.3 | B7: فونداسیون بتنی | C7: =Plan!C7 -> 0.2 | D7: 0 | E7: 0.35 | F7: 0.75 | G7: 1 | H7: 1
A8: 1.3.1 | B8: بتن اسکلت طبقه ۱ | C8: =Plan!C8 -> 0.2 | D8: 0 | E8: 0 | F8: 0.1 | G8: 0.8 | H8: 1
A9: 1.3.2 | B9: بتن اسکلت طبقه ۲ | C9: =Plan!C9 -> 0.2 | D9: 0 | E9: 0 | F9: 0 | G9: 0 | H9: 0.2
A10: 1.4.1 | B10: دیوارچینی طبقه ۱ | C10: =Plan!C10 -> 0.1 | D10: 0 | E10: 0 | F10: 0 | G10: 0 | H10: 0.3
A11: 1.5.1 | B11: لوله‌کشی آب و فاضلاب | C11: =Plan!C11 -> 0.1 | D11: 0 | E11: 0 | F11: 0 | G11: 0 | H11: 0
A12: 1.6.2 | B12: نازک‌کاری نهایی طبقه ۱ | C12: =Plan!C12 -> 0.1 | D12: 0 | E12: 0 | F12: 0 | G12: 0 | H12: 0
A13: 1.8.3 | B13: مدارک چون‌ساخت و بهره‌برداری | C13: =Plan!C13 -> 0.05 | D13: 0 | E13: 0 | F13: 0 | G13: 0 | H13: 0
A15: تاریخ وضعیت: 2026-11-08. ستون‌های هفته آینده واقعاً خالی‌اند؛ صفر یعنی کار اندازه‌گیری شده ولی پیشرفت آن صفر است.
A18: مبنای هفته چهارم و پنجم: نمونه منتشرشده پیشرفت فیزیکی مدیرساخت. سایر هفته‌ها فرضی‌اند. وزن را فقط در Plan اصلاح کنید؛ وزن Actual برای نمایش است و خروجی از وزن‌های Plan استفاده می‌کند.
